BEGIN:VCALENDAR
VERSION:2.0
BEGIN:VEVENT
DTSTART;TZID=US/Eastern:20170926T123000
DTEND;TZID=US/Eastern:20170926T133000
SUMMARY:Using data-driven models to uncover cell behaviors controlling self-organization during Myxoccocus xanthous development. -- Christopher Cotter
DESCRIPTION:CSP Lunch Seminar. 
LOCATION:CSP Conference Room (322)
END:VEVENT
END:VCALENDAR