BEGIN:VCALENDAR
VERSION:2.0
BEGIN:VEVENT
DTSTART;TZID=US/Eastern:20170905T123000
DTEND;TZID=US/Eastern:20170905T133000
SUMMARY:Efficient scrambling of quantum information on a chain of qubits. -- Prof. Michael Geller
DESCRIPTION:CSP Lunch Seminar. 
LOCATION:CSP Conference Room (322)
END:VEVENT
END:VCALENDAR