BEGIN:VCALENDAR
VERSION:2.0
BEGIN:VEVENT
DTSTART;TZID=US/Eastern:20170418T123000
DTEND;TZID=US/Eastern:20170418T133000
SUMMARY:Magnetic Textures in Thin Films from RKKY Interaction. A Monte Carlo Simulation. -- Dario Agudelo
DESCRIPTION:CSP Lunch Seminar. 
LOCATION:CSP Conference Room (322)
END:VEVENT
END:VCALENDAR