BEGIN:VCALENDAR
VERSION:2.0
BEGIN:VEVENT
DTSTART;TZID=US/Eastern:20100312T083000
DTEND;TZID=US/Eastern:20100312T170000
SUMMARY:Nano-Bio Cleanroom Symposium and Opening Ceremony -- 
DESCRIPTION:Special Colloquium. Symposium Goals:
• To bring regional scientists to UGA to share their visions on the future of Nanobiotechnology and
how to apply microfabrication and nanofabrication to biological research.
• To celebrate the opening of UGA nano-bio cleanroom at the Riverbend ComplexFeatured Speakers:  
Dr. Paul J. Joseph Nanotechnology Research Center, Georgia Institute of Technology;
Dr. Chang Liu, Northwestern University;
Dr. Ali Passian, Oak Ridge National Laboratory;
Dr. Stephen P. DeWeerth, Wallace H. Coulter Department of Biomedical Engineering, Georgia
Institute of Technology / Emory University.Poster Submissions:
Posters describing original nanotechnology and nanobiotechnology research will be available
throughout the day. Poster abstracts of no more than 500 words should be emailed by March 5
to zhaoy@physast.uga.edu. Please include the title of the poster and names of all authors.Registration:
The symposium is free. Anyone from UGA or regional institutions is welcome to attend.
Please RSVP your attendance to Yiping Zhao (zhaoy@physast.uga.edu) by March 5 for
meeting arrangement purposes.
LOCATION:Auditorium, Riverbend Research Laboratory South
END:VEVENT
END:VCALENDAR