BEGIN:VCALENDAR
VERSION:2.0
BEGIN:VEVENT
DTSTART;TZID=US/Eastern:20170131T123000
DTEND;TZID=US/Eastern:20170131T133000
SUMMARY:Pushing the Limits of Monte Carlo Simulations for the 3d Ising Model -- Jiahao Xu
DESCRIPTION:CSP Lunch Seminar. 
LOCATION:CSP Conference Room (322)
END:VEVENT
END:VCALENDAR