BEGIN:VCALENDAR
VERSION:2.0
BEGIN:VEVENT
DTSTART;TZID=US/Eastern:20161129T123000
DTEND;TZID=US/Eastern:20161129T133000
SUMMARY:Improving Lattice Models for Protein Folding: Crambin as a Case Study -- Alfred Farris
DESCRIPTION:CSP Lunch Seminar. 
LOCATION:CSP Conference Room (322)
END:VEVENT
END:VCALENDAR