BEGIN:VCALENDAR
VERSION:2.0
BEGIN:VEVENT
DTSTART;TZID=US/Eastern:20161025T123000
DTEND;TZID=US/Eastern:20161025T133000
SUMMARY:Computational studies and modeling of cancer metastases -- Sha Cao
DESCRIPTION:CSP Lunch Seminar. 
LOCATION:CSP Conference Room (322)
END:VEVENT
END:VCALENDAR