BEGIN:VCALENDAR
VERSION:2.0
BEGIN:VEVENT
DTSTART;TZID=US/Eastern:20161018T123000
DTEND;TZID=US/Eastern:20161018T133000
SUMMARY:Ambient Gas Condensation onto High Velocity Clouds -- Jeffrey Gritton
DESCRIPTION:CSP Lunch Seminar. 
LOCATION:CSP Conference Room (322)
END:VEVENT
END:VCALENDAR