BEGIN:VCALENDAR
VERSION:2.0
BEGIN:VEVENT
DTSTART;TZID=US/Eastern:20161011T123000
DTEND;TZID=US/Eastern:20161011T133000
SUMMARY:Ole Doc Lewis’s Guide to Writing Scientific Papers -- Prof. Steve Lewis
DESCRIPTION:CSP Lunch Seminar. 
LOCATION:CSP Conference Room (322)
END:VEVENT
END:VCALENDAR