BEGIN:VCALENDAR
VERSION:2.0
BEGIN:VEVENT
DTSTART;TZID=US/Eastern:20100216T123000
DTEND;TZID=US/Eastern:20100216T133000
SUMMARY:Introduction to Quantum Information, Computation, and Simulation -- Colin Benjamin
DESCRIPTION:CSP Lunch Seminar. Dr. Colin Benjamin will be presenting his talk entitled this "Introduction to Quantum Information, Computation, and Simulation" this week.
LOCATION:CSP Conference Room (322)
END:VEVENT
END:VCALENDAR