BEGIN:VCALENDAR
VERSION:2.0
BEGIN:VEVENT
DTSTART;TZID=US/Eastern:20160927T123000
DTEND;TZID=US/Eastern:20160927T133000
SUMMARY:Density functional theory studies of dopant effects on photo refractive potassium niobite - Part II -- Eric Suter
DESCRIPTION:CSP Lunch Seminar. 
LOCATION:CSP Conference Room (322)
END:VEVENT
END:VCALENDAR