BEGIN:VCALENDAR
VERSION:2.0
BEGIN:VEVENT
DTSTART;TZID=US/Eastern:20160922T153000
DTEND;TZID=US/Eastern:20160922T163000
SUMMARY:Quantum Computing with Trapped Ions -- Prof. Kenneth Brown
DESCRIPTION:Departmental Colloquium. Quantum computation promises an exponential algorithmic speed up over classical computation. Currently quantum computing hardware is limited by errors in the control and unwanted interactions with the environment. I will present our theoretical and experimental work on removing both control and algorithmic errors in ion trap quantum processors. I will also discuss proposals for scaling ion trap quantum computers from 10's to 100's of qubits.
LOCATION:Physics Auditorium (202)
END:VEVENT
END:VCALENDAR