BEGIN:VCALENDAR
VERSION:2.0
BEGIN:VEVENT
DTSTART;TZID=US/Eastern:20160913T123000
DTEND;TZID=US/Eastern:20160913T133000
SUMMARY:Using xmgrace to make publication quality 2d plots -- Shan-Ho Tsai
DESCRIPTION:CSP Lunch Seminar. 
LOCATION:CSP Conference Room (322)
END:VEVENT
END:VCALENDAR