BEGIN:VCALENDAR
VERSION:2.0
BEGIN:VEVENT
DTSTART;TZID=US/Eastern:20160414T153000
DTEND;TZID=US/Eastern:20160414T163000
SUMMARY:Making a Career Cheat Sheet -- Dr. Kathryn Williamson
DESCRIPTION:Awards Ceremony. This week's colloquium slot is dedicated to our undergraduates, starting with a reception, followed by the announcement of the undergraduate awards and closing with a talk by Kathryn Williamson, a former undergraduate student of our department.
LOCATION:Physics Auditorium (202)
END:VEVENT
END:VCALENDAR