BEGIN:VCALENDAR
VERSION:2.0
BEGIN:VEVENT
DTSTART;TZID=US/Eastern:20100215T153000
DTEND;TZID=US/Eastern:20100215T153000
SUMMARY:Coffee Hour -- 
DESCRIPTION:Coffee Hour. Coffee hour will be held at 3:30pm in the reading room.
LOCATION:Reading Room, Physics
END:VEVENT
END:VCALENDAR