BEGIN:VCALENDAR
VERSION:2.0
BEGIN:VEVENT
DTSTART;TZID=US/Eastern:20160420T160000
DTEND;TZID=US/Eastern:19691231T190000
SUMMARY:Statistical and Conformational Analysis of Structural Transitions in Finite Systems -- Kai Qi
DESCRIPTION:Dissertation Defense. 
LOCATION:Room 322, Physics Building
END:VEVENT
END:VCALENDAR