BEGIN:VCALENDAR
VERSION:2.0
BEGIN:VEVENT
DTSTART;TZID=US/Eastern:20160329T123000
DTEND;TZID=US/Eastern:20160329T133000
SUMMARY:Fenton reactions and Cancer -- Prof. Ying Xu
DESCRIPTION:CSP Lunch Seminar. 
LOCATION:CSP Conference Room (322)
END:VEVENT
END:VCALENDAR