BEGIN:VCALENDAR
VERSION:2.0
BEGIN:VEVENT
DTSTART;TZID=US/Eastern:20160322T123000
DTEND;TZID=US/Eastern:20160322T133000
SUMMARY:Conformational behavior of Polyampholyte Brushes and electrokinetic transport dynamics in nano channels: molecular dynamics method -- Hao You
DESCRIPTION:CSP Lunch Seminar. Polyampholyte are water-soluble polymers containing both cationic and anionic groups. They are ubiquitous in nature such as genetic material (DNA and RNA) and proteins and thus are of fundamental scientific interest and have a wide range of industrial applications. In this talk we present some of our recent work: 1) conformational behaviors of the polyampholytes coated onto the internal surface of a spherical cavity.  2) The valency of the counterion effects.
The implementation of the nanochannel functionalities mainly depends on the physico-chemical properties of the surfaces, which have critical effects on the transport behavior of the confined fluid and the structure of the solvent in the interfacial region. A strategy to modify the surface properties is to graft polymers brushes onto the surfaces of the solid-state channels.We simulate electrokinetic transport dynamics in mixed polymer brush-grafted nanochannels, where two distinct species of polymers are alternately grafted on the inner surface of nano channels.
LOCATION:CSP Conference Room (Room 322)
END:VEVENT
END:VCALENDAR