BEGIN:VCALENDAR
VERSION:2.0
BEGIN:VEVENT
DTSTART;TZID=US/Eastern:20160325T210000
DTEND;TZID=US/Eastern:20160325T220000
SUMMARY:Special Observatory Viewing -- Dr. Robin Shelton and Dr. Loris Magnani
DESCRIPTION:Observatory Open House. The 24 inch telescope has been fixed!
Our first public viewing with the newly fixed telescope will be a special viewing on March 25, 2016. Because of the limited space in the dome, you must have a reservation to come to this showing.  Click here to make a reservation. 
The observatory is located at the top of the Physics building. To get to the observatory take the elevator to the 4th floor.  A guide will meet you on the 4th floor and direct your group to  the stairway that leads to the observatory.  As the weather can be unpredictable, we might not know whether a viewing will be possible until shortly before the event begins.   
If you need more information please call 706-542-2485.
LOCATION:UGA Observatory (4th floor Physics Building)
END:VEVENT
END:VCALENDAR