BEGIN:VCALENDAR
VERSION:2.0
BEGIN:VEVENT
DTSTART;TZID=US/Eastern:20100212T133000
DTEND;TZID=US/Eastern:20100212T143000
SUMMARY:Overview of biorefinery technologies---biomass production and conversion to value added products, KC Das, Jim Kastner, Sudhagar Mani -- 
DESCRIPTION:NanoSEC Seminar. Professors KC Das, Jim Kastner, and Sudhagar Mani of the Department of Biological and Agricultural Engineering will be presenting their talk entitled "Overview of biorefinery technologies---biomass production and
conversion to value added products," this week.Seminar will cover selected existing and up coming technologies for converting biomass to fuels
and chemicals. Focus will be on Biorefinery and Carbon Cycling Program activities in biomass
production, pre-treatment, conversion and utilization, with the intent to identify opportunities for
application of nano-science and engineering capabilities.
LOCATION:Auditorium, Riverbend Research Laboratory South
END:VEVENT
END:VCALENDAR