BEGIN:VCALENDAR
VERSION:2.0
BEGIN:VEVENT
DTSTART;TZID=US/Eastern:20100208T153000
DTEND;TZID=US/Eastern:20100208T163000
SUMMARY:Coffee Hour -- 
DESCRIPTION:Coffee Hour. Coffee hour will be in the reading room at 3:30pm.
LOCATION:Reading Room, Physics 
END:VEVENT
END:VCALENDAR