BEGIN:VCALENDAR
VERSION:2.0
BEGIN:VEVENT
DTSTART;TZID=US/Eastern:20151117T123000
DTEND;TZID=US/Eastern:20151117T133000
SUMMARY:Spin Wave Excitations of α-Iron in Strong Magnetic Fields: An MDSD Study -- Mark Mudrick
DESCRIPTION:CSP Lunch Seminar. 
LOCATION:CSP Conference Room (322)
END:VEVENT
END:VCALENDAR