BEGIN:VCALENDAR
VERSION:2.0
BEGIN:VEVENT
DTSTART;TZID=US/Eastern:20151103T123000
DTEND;TZID=US/Eastern:20151103T133000
SUMMARY:Spin Dynamics Simulation of Nanoscale Classical Heisenberg Antiferromagnets -- Zhuofei Hou
DESCRIPTION:CSP Lunch Seminar. 
LOCATION:CSP Conference Room (322)
END:VEVENT
END:VCALENDAR