BEGIN:VCALENDAR
VERSION:2.0
BEGIN:VEVENT
DTSTART;TZID=US/Eastern:20151020T123000
DTEND;TZID=US/Eastern:20151020T133000
SUMMARY:Universal Pre-Threshold Quantum Simulation and the ABA decomposition -- Amara Katabarwa
DESCRIPTION:CSP Lunch Seminar. 
LOCATION:CSP Conference Room (322)
END:VEVENT
END:VCALENDAR