BEGIN:VCALENDAR
VERSION:2.0
BEGIN:VEVENT
DTSTART;TZID=US/Eastern:20150929T123000
DTEND;TZID=US/Eastern:20150929T133000
SUMMARY:A Simulational Study of Molecular Hydrogen Formation in the ISM -- John Dupuy
DESCRIPTION:CSP Lunch Seminar. 
LOCATION:CSP Conference Room (322)
END:VEVENT
END:VCALENDAR