BEGIN:VCALENDAR
VERSION:2.0
BEGIN:VEVENT
DTSTART;TZID=US/Eastern:20150915T123000
DTEND;TZID=US/Eastern:20150915T133000
SUMMARY:Introduction to HPC using the New Cluster at GACRC -- Zhuofei Hou
DESCRIPTION:CSP Lunch Seminar. 
LOCATION:CSP Conference Room (322)
END:VEVENT
END:VCALENDAR