BEGIN:VCALENDAR
VERSION:2.0
BEGIN:VEVENT
DTSTART;TZID=US/Eastern:20100209T123000
DTEND;TZID=US/Eastern:20100209T133000
SUMMARY:Low-temperature behavior and solid-solid transitions of a flexible homopolyer -- Stefan Schnabel
DESCRIPTION:CSP Lunch Seminar. Dr. Stefan Schnabel will be presenting his talk entitled "Low-temperature behavior and solid-solid transitions of a flexible homopolyer," this week.
LOCATION:CSP Conference Room (322)
END:VEVENT
END:VCALENDAR