BEGIN:VCALENDAR
VERSION:2.0
BEGIN:VEVENT
DTSTART;TZID=US/Eastern:20150901T123000
DTEND;TZID=US/Eastern:20150901T133000
SUMMARY:Quantum simulation and quantum computing -- Andrew Sornborger
DESCRIPTION:CSP Lunch Seminar. 
LOCATION:CSP Conference Room (322)
END:VEVENT
END:VCALENDAR