BEGIN:VCALENDAR
VERSION:2.0
BEGIN:VEVENT
DTSTART;TZID=US/Eastern:20150818T123000
DTEND;TZID=US/Eastern:20150818T133000
SUMMARY:Uniform sampling with stochastic growth methods with applications to polymers -- Prof. Thomas Prellberg
DESCRIPTION:CSP Lunch Seminar. 
LOCATION:CSP Conference Room (322)
END:VEVENT
END:VCALENDAR