BEGIN:VCALENDAR
VERSION:2.0
BEGIN:VEVENT
DTSTART;TZID=US/Eastern:20150305T153000
DTEND;TZID=US/Eastern:20150305T163000
SUMMARY:Violent Events in Rocky Planetary Systems -- Ben Zuckerman, Research Professor and Emeritus
DESCRIPTION:Departmental Colloquium. Implications for the fate of technological civilizations, including our own
LOCATION:Physics Auditorium (202)
END:VEVENT
END:VCALENDAR