BEGIN:VCALENDAR
VERSION:2.0
BEGIN:VEVENT
DTSTART;TZID=US/Eastern:20141023T153000
DTEND;TZID=US/Eastern:20141023T163000
SUMMARY:Defining Chaos from First Principles -- M. Howard Lee
DESCRIPTION:Departmental Colloquium. 
LOCATION:Physics Auditorium (202)
END:VEVENT
END:VCALENDAR