BEGIN:VCALENDAR
VERSION:2.0
BEGIN:VEVENT
DTSTART;TZID=US/Eastern:20141017T180000
DTEND;TZID=US/Eastern:20141017T190000
SUMMARY:Fall 2014 Observatory Open House: Friday, October 17 8:00pm-9:30pm -- Dr. Robin Shelton
DESCRIPTION:Observatory Open House. The last Observatory Open House for Fall 2014 will be on Friday, October 17, 2014, beginning at 8:00pm and ending at 9:30pm. If the weather is clear, then we will use the 24 inch telescope in the dome on top of the building to see the sky. If the weather is cloudy, then Dr. Loris Magnani will give a lecture in the physics auditorium (room 202). The topic of his lecture will be "The Gas and Dust in the Milky Way".  
If the sky is clear, then visitors should go to the 4th floor of the Physics Building, where they will ascend the staircase that leads to the dome. Visitors do not need to arrive exactly at 8:00pm or before 8:00pm -- we will be open during the whole 8:00pm to 9:30pm timeframe.
If you need more information please call 706-542-2485
LOCATION:Observatory on 4th Floor (if clear). Physics Auditorium, rm 202 (if cloudy/rainy)
END:VEVENT
END:VCALENDAR