BEGIN:VCALENDAR
VERSION:2.0
BEGIN:VEVENT
DTSTART;TZID=US/Eastern:20140916T123000
DTEND;TZID=US/Eastern:20140916T133000
SUMMARY:The Reasons of Us Being -- Michael Bachmann
DESCRIPTION:CSP Lunch Seminar. 
LOCATION:CSP Conference Room (322)
END:VEVENT
END:VCALENDAR