BEGIN:VCALENDAR
VERSION:2.0
BEGIN:VEVENT
DTSTART;TZID=US/Eastern:20140909T123000
DTEND;TZID=US/Eastern:20140909T133000
SUMMARY:https://www.csp.uga.edu/events/view/15 -- Mohua Bhattacharya
DESCRIPTION:CSP Lunch Seminar. 
LOCATION:CSP Conference Room (322)
END:VEVENT
END:VCALENDAR