BEGIN:VCALENDAR
VERSION:2.0
BEGIN:VEVENT
DTSTART;TZID=US/Eastern:20140902T123000
DTEND;TZID=US/Eastern:20140902T133000
SUMMARY:Use of GACRC machines and facilities available & CSP machines -- Shan-Ho Tsai & Mike Caplinger
DESCRIPTION:CSP Lunch Seminar. 
LOCATION:CSP Conference Room (322)
END:VEVENT
END:VCALENDAR