BEGIN:VCALENDAR
VERSION:2.0
BEGIN:VEVENT
DTSTART;TZID=US/Eastern:20140701T123000
DTEND;TZID=US/Eastern:20140701T133000
SUMMARY:Bicritical Universality on the Anisotropic Heisenberg Model in a Crystal Field -- Joao Plascak Ph.D.
DESCRIPTION:CSP Lunch Seminar. 
LOCATION:CSP Conference Room (322)
END:VEVENT
END:VCALENDAR