BEGIN:VCALENDAR
VERSION:2.0
BEGIN:VEVENT
DTSTART;TZID=US/Eastern:20140624T123000
DTEND;TZID=US/Eastern:20140624T133000
SUMMARY:Up and running in python for C/C++ and Fortran programmers Pt. 2 -- Dr. Bill Dennis
DESCRIPTION:CSP Lunch Seminar. 
LOCATION:CSP Conference Room (322)
END:VEVENT
END:VCALENDAR