BEGIN:VCALENDAR
VERSION:2.0
BEGIN:VEVENT
DTSTART;TZID=US/Eastern:20140731T110000
DTEND;TZID=US/Eastern:20140731T120000
SUMMARY:Some surprises in electronic transport through self-assembled-monolayer molecular junctions -- Professor Yonatan Dubi
DESCRIPTION:NanoSEC Seminar. Dr. Dubi is one of the key players in developing theoretical means to understand the transport properties (electronic, heat and energy) at the nanoscale. His research results have been published in the most prestigious scientific journals, such as Nature, Rev. Mod. Phy., Phys. Rev. Lett.
LOCATION:Riverbend Research South Laboratory Auditorium
END:VEVENT
END:VCALENDAR