BEGIN:VCALENDAR
VERSION:2.0
BEGIN:VEVENT
DTSTART;TZID=US/Eastern:20140424T160000
DTEND;TZID=US/Eastern:20140424T170000
SUMMARY:Magnetic Resonance Imaging with Hyperpolarized 13C -- Dr. Jeremy Gordon
DESCRIPTION:Departmental Colloquium. Magnetic resonance imaging (MRI) of 13C nuclei holds the potential to probe pathology at a molecular level. These pathological changes often times precede or occur in the absence of changes in anatomy and can therefore provide valuable insight into the treatment of malignant diseases. Unfortunately, signal from endogenous 13C is indistinguishable from noise due to low receptivity, sub millimolar in-vivo concentrations, and scan time limitations.
Recent advances now allow for &gt;10,000 fold signal enhancement of 13C nuclei via a technique referred to as dynamic nuclear polarization (DNP), enabling the use of 13C labeled molecules to probe metabolic function non- invasively and in real-time. Nevertheless, MR imaging of hyperpolarized 13C compounds is more challenging than conventional 1H MRI, due in large part to the nature of the hyperpolarized magnetization and the need to generate images of both the substrate and the metabolic products. In this talk we will discuss the principles of hyperpolarization, the basics of MRI with hyperpolarized 13C compounds, and some of the applications of this new and exciting technique.
LOCATION:Physics Auditorium (202)
END:VEVENT
END:VCALENDAR