BEGIN:VCALENDAR
VERSION:2.0
BEGIN:VEVENT
DTSTART;TZID=US/Eastern:20140415T164000
DTEND;TZID=US/Eastern:20140415T173000
SUMMARY:Perturbative QFT and its diagrams -- Robert Varley
DESCRIPTION:Mathematical Physics Seminar. 
LOCATION:Physics Building Conference Room (204B)
END:VEVENT
END:VCALENDAR