BEGIN:VCALENDAR
VERSION:2.0
BEGIN:VEVENT
DTSTART;TZID=US/Eastern:20140415T123000
DTEND;TZID=US/Eastern:20140415T133000
SUMMARY:Thermodynamics and structural transitions of confined HP Proteins: A Wang-Landau study -- Busara Pattanasiri
DESCRIPTION:CSP Lunch Seminar. 
LOCATION:CSP Conference Room (Room 322)
END:VEVENT
END:VCALENDAR