BEGIN:VCALENDAR
VERSION:2.0
BEGIN:VEVENT
DTSTART;TZID=US/Eastern:20100201T153000
DTEND;TZID=US/Eastern:20100201T163000
SUMMARY:Coffee Hour -- 
DESCRIPTION:Coffee Hour. All faculty, staff, and physics students are invited to attend coffee hour to mix and mingle. Snacks and beverages will be available.
LOCATION:Room 234:  Strauss-Menendez Reading Room
END:VEVENT
END:VCALENDAR