BEGIN:VCALENDAR
VERSION:2.0
BEGIN:VEVENT
DTSTART;TZID=US/Eastern:20140408T164000
DTEND;TZID=US/Eastern:20140408T173000
SUMMARY:Superconducting integrated circuits as a macroscopic quantum system - an explanation of the physics behind the Josephson effect & SQUID devices -- Emmanuel Donate
DESCRIPTION:Mathematical Physics Seminar. 
LOCATION:Physics Building Conference Room (204B)
END:VEVENT
END:VCALENDAR