BEGIN:VCALENDAR
VERSION:2.0
BEGIN:VEVENT
DTSTART;TZID=US/Eastern:20140401T164000
DTEND;TZID=US/Eastern:20140401T173000
SUMMARY:Decoherence and the Quantum To Classical Transition -- Amara Katabarwa 
DESCRIPTION:Mathematical Physics Seminar. 
LOCATION:Physics Building Conference Room (204B)
END:VEVENT
END:VCALENDAR