BEGIN:VCALENDAR
VERSION:2.0
BEGIN:VEVENT
DTSTART;TZID=US/Eastern:20140325T164000
DTEND;TZID=US/Eastern:20140325T173000
SUMMARY:Kerr solution for a rotating black hole, cont. -- Brad Bassler
DESCRIPTION:Mathematical Physics Seminar. 
LOCATION:Physics Building Conference Room (204B)
END:VEVENT
END:VCALENDAR