BEGIN:VCALENDAR
VERSION:2.0
BEGIN:VEVENT
DTSTART;TZID=US/Eastern:20100119T123000
DTEND;TZID=US/Eastern:20100119T133000
SUMMARY:"Dymanics of rough surfaces generated by spin models:  Blume-Capel, Potts and Clock" -- Joao Plascak
DESCRIPTION:CSP Lunch Seminar. Dr. Joao Plascak will give a talk entitled "Dymanics of rough surfaces generated by spin models:  Blume-Capel, Potts and Clock."
LOCATION:CSP Conference Room (322)
END:VEVENT
END:VCALENDAR