BEGIN:VCALENDAR
VERSION:2.0
BEGIN:VEVENT
DTSTART;TZID=US/Eastern:20140318T123000
DTEND;TZID=US/Eastern:20140318T133000
SUMMARY:Monitoring Large Scale Protein Conformational Changes -- Amika Sood, CCRC
DESCRIPTION:CSP Lunch Seminar. 
LOCATION:CSP Conference Room, Physics Bldg.
END:VEVENT
END:VCALENDAR