BEGIN:VCALENDAR
VERSION:2.0
BEGIN:VEVENT
DTSTART;TZID=US/Eastern:20140225T164000
DTEND;TZID=US/Eastern:20140225T173000
SUMMARY:Observational evidence for black holes in astrophysics -- Loris Magnani
DESCRIPTION:Mathematical Physics Seminar. 
LOCATION:Physics Building Conference Room (Physics 204B)
END:VEVENT
END:VCALENDAR