BEGIN:VCALENDAR
VERSION:2.0
BEGIN:VEVENT
DTSTART;TZID=US/Eastern:20140218T164000
DTEND;TZID=US/Eastern:20140218T173000
SUMMARY:Newtonian gravity as space-time geometry -- Robert Varley
DESCRIPTION:Mathematical Physics Seminar. 
LOCATION:Physics Building Conference Room (204B)
END:VEVENT
END:VCALENDAR