BEGIN:VCALENDAR
VERSION:2.0
BEGIN:VEVENT
DTSTART;TZID=US/Eastern:20140121T164000
DTEND;TZID=US/Eastern:20140121T173000
SUMMARY:Coordinate systems for the Schwarzschild geometry -- Brad Bassler
DESCRIPTION:Mathematical Physics Seminar. 
LOCATION:Physics Building Conference Room (204B)
END:VEVENT
END:VCALENDAR